Workbook

Sheet 基础数据
B2: 仅需对绿色部分进行填写，其它部分均为自动计算
B3: 黄色部分不准改动！！！ 公司名仅需要简写！！！
B4: 仅选取前五名进行数据分析，低于前五名不统计！！！ | K4: 图表含义：单项偏差率=（公司单项得分-单项前5名平均分）/单项前5名平均分
B5: 如仅有前三、前四名情形，第三第四名不需要填，空置即可
B6: 填写完成后，对“最终显示”的柱状折线图截屏，放报告里 这个页面的表格不必打印
D7: 前五名分项得分与平均分偏差率对比表
C8: 报价部分 | F8: 技术部分 | I8: 商务部分 | L8: 总分
B9: 平均分 | C9: =AVERAGE(C11:C15) -> 24.61 | F9: =AVERAGE(F11:F15) -> 40 | I9: =AVERAGE(I11:I15) -> 21.1775 | L9: =AVERAGE(L11:L15) -> 85.7875
B10: 投标单位 | C10: 实得分 | D10: 分差值 | E10: 偏差率 | F10: 实得分 | G10: 分差值 | H10: 偏差率 | I10: 实得分 | J10: 分差值 | K10: 偏差率 | L10: 实得分 | M10: 分差值 | N10: 偏差率
A11: 第一名 | B11: AA公司 | C11: 19.36 | D11: =C11-$C$9 -> -5.25 | E11: =D11/$C$9 -> -0.21332792 | F11: 40 | G11: =F11-$F$9 -> 0 | H11: =G11/F9 -> 0 | I11: 29.71 | J11: =I11-I9 -> 8.5325 | K11: =J11/I9 -> 0.40290403 | L11: =C11+F11+I11 -> 89.07 | M11: =L11-L9 -> 3.2825 | N11: =M11/L9 -> 0.03826315
A12: 第二名 | B12: BB公司 | C12: 25.99 | D12: =C12-$C$9 -> 1.38 | E12: =D12/$C$9 -> 0.056074766 | F12: 40 | G12: =F12-$F$9 -> 0 | H12: =G12/F9 -> 0 | I12: 20 | J12: =I12-I9 -> -1.1775 | K12: =J12/I9 -> -0.055601464 | L12: =C12+F12+I12 -> 85.99 | M12: =L12-L9 -> 0.2025 | N12: =M12/L9 -> 0.0023604838
A13: 第三名 | B13: CC公司 | C13: 30 | D13: =C13-$C$9 -> 5.39 | E13: =D13/$C$9 -> 0.21901666 | F13: 40 | G13: =F13-$F$9 -> 0 | H13: =G13/F9 -> 0 | I13: 15.86 | J13: =I13-I9 -> -5.3175 | K13: =J13/I9 -> -0.25109196 | L13: =C13+F13+I13 -> 85.86 | M13: =L13-L9 -> 0.0725 | N13: =M13/L9 -> 0.00084511147
A14: 第四名 | B14: DD公司 | C14: 23.09 | D14: =C14-$C$9 -> -1.52 | E14: =D14/$C$9 -> -0.061763511 | F14: 40 | G14: =F14-$F$9 -> 0 | H14: =G14/F9 -> 0 | I14: 19.14 | J14: =I14-I9 -> -2.0375 | K14: =J14/I9 -> -0.096210601 | L14: =IF(B14="","",C14+F14+I14) -> 82.23 | M14: =L14-L9 -> -3.5575 | N14: =M14/L9 -> -0.041468745
A15: 第五名 | D15: =C15-$C$9 -> -24.61 | E15: =D15/$C$9 -> -1 | G15: =F15-$F$9 -> -40 | H15: =G15/F9 -> -1 | J15: =I15-I9 -> -21.1775 | K15: =J15/I9 -> -1 | L15: =IF(B15="","",C15+F15+I15) | M15: =L15-L9 -> #VALUE! | N15: =M15/L9 -> #VALUE!
B17: 任何一个部分偏差率越高，证明该板块最具竞争力，就是报价最低、技术最好、商务最优。相应负值，就是低于了平均分值。偏差为零，就证明得分就是平均得分。
B19: 投标单位 | C19: 报价 | D19: 技术 | E19: 商务 | F19: 总分 | H19: 折线数据标签 | K19: 自动生成数据，不要改动！！！
B20: =基础数据!A11&CHAR(10)&基础数据!B11 -> 第一名 AA公司 | C20: =ROUND(基础数据!E11*100,1) -> -21.3 | D20: =ROUND(基础数据!H11*100,1) -> 0 | E20: =ROUND(基础数据!K11*100,1) -> 40.3 | F20: =ROUND(基础数据!N11*100,1) -> 3.8 | H20: =F20&"%("&ROUND(基础数据!L11,1)&"分)" -> 3.8%(89.1分)
B21: =基础数据!A12&CHAR(10)&基础数据!B12 -> 第二名 BB公司 | C21: =ROUND(基础数据!E12*100,1) -> 5.6 | D21: =ROUND(基础数据!H12*100,1) -> 0 | E21: =ROUND(基础数据!K12*100,1) -> -5.6 | F21: =ROUND(基础数据!N12*100,1) -> 0.2 | H21: =F21&"%("&ROUND(基础数据!L12,1)&"分)" -> 0.2%(86分)
B22: =基础数据!A13&CHAR(10)&基础数据!B13 -> 第三名 CC公司 | C22: =ROUND(基础数据!E13*100,1) -> 21.9 | D22: =ROUND(基础数据!H13*100,1) -> 0 | E22: =ROUND(基础数据!K13*100,1) -> -25.1 | F22: =ROUND(基础数据!N13*100,1) -> 0.1 | H22: =F22&"%("&ROUND(基础数据!L13,1)&"分)" -> 0.1%(85.9分)
B23: =IF(B14="","",基础数据!A14&CHAR(10)&基础数据!B14) -> 第四名 DD公司 | C23: =IF(B14="","",ROUND(基础数据!E14*100,1)) -> -6.2 | D23: =IF(B14="","",ROUND(基础数据!H14*100,1)) -> 0 | E23: =IF(B14="","",ROUND(基础数据!K14*100,1)) -> -9.6 | F23: =IF(B14="","",ROUND(基础数据!N14*100,1)) -> -4.1 | H23: =IF(B14="","",F23&"%("&ROUND(基础数据!L14,1)&"分)") -> -4.1%(82.2分)
B24: =IF(B15="","",基础数据!A15&CHAR(10)&基础数据!B15) | C24: =IF(B15="","",ROUND(基础数据!E15*100,1)) | D24: =IF(B15="","",ROUND(基础数据!H15*100,1)) | E24: =IF(B15="","",ROUND(基础数据!K15*100,1)) | F24: =IF(B15="","",ROUND(基础数据!N15*100,1)) | H24: =IF(B15="","",F24&"%("&ROUND(基础数据!L15,1)&"分)")

Sheet 最终显示（截图后放在报告里即可）

Sheet Sheet1
